BEGIN:VCALENDAR
PRODID:-//Microsoft Corporation//Outlook MIMEDIR//EN
VERSION:2.0
METHOD:PUBLISH
BEGIN:VEVENT
DTSTART:20260427T144500
DTEND:20260427T154500
DESCRIPTION:
LOCATION:K.C. Legislative Assembly Area Kansas City, Missouri
SUMMARY:Public Works Committee
CATEGORIES:MEETING
END:VEVENT
END:VCALENDAR
